BEGIN:VCALENDAR
VERSION:2.0
PRODID:-//Trafalgar Golf Club - ECPv5.10.0//NONSGML v1.0//EN
CALSCALE:GREGORIAN
METHOD:PUBLISH
X-WR-CALNAME:Trafalgar Golf Club
X-ORIGINAL-URL:https://www.trafalgargolf.com.au
X-WR-CALDESC:Events for Trafalgar Golf Club
BEGIN:VTIMEZONE
TZID:Australia/Melbourne
BEGIN:STANDARD
TZOFFSETFROM:+1100
TZOFFSETTO:+1000
TZNAME:AEST
DTSTART:20190406T160000
END:STANDARD
BEGIN:DAYLIGHT
TZOFFSETFROM:+1000
TZOFFSETTO:+1100
TZNAME:AEDT
DTSTART:20191005T160000
END:DAYLIGHT
END:VTIMEZONE
BEGIN:VEVENT
DTSTART;TZID=Australia/Melbourne:20190828T083000
DTEND;TZID=Australia/Melbourne:20190828T133000
DTSTAMP:20260420T181626
CREATED:20190125T051424Z
LAST-MODIFIED:20190125T051424Z
UID:4106-1566981000-1566999000@www.trafalgargolf.com.au
SUMMARY:Ladies - Par - Checker J.Croyle -  Starters: A McNair & J.Baker
DESCRIPTION:
URL:https://www.trafalgargolf.com.au/event/ladies-par-checker-j-croyle-starters-a-mcnair-j-baker/
END:VEVENT
END:VCALENDAR