BEGIN:VCALENDAR
VERSION:2.0
PRODID:-//Trafalgar Golf Club - ECPv5.10.0//NONSGML v1.0//EN
CALSCALE:GREGORIAN
METHOD:PUBLISH
X-WR-CALNAME:Trafalgar Golf Club
X-ORIGINAL-URL:https://www.trafalgargolf.com.au
X-WR-CALDESC:Events for Trafalgar Golf Club
BEGIN:VTIMEZONE
TZID:Australia/Melbourne
BEGIN:STANDARD
TZOFFSETFROM:+1100
TZOFFSETTO:+1000
TZNAME:AEST
DTSTART:20180331T160000
END:STANDARD
BEGIN:DAYLIGHT
TZOFFSETFROM:+1000
TZOFFSETTO:+1100
TZNAME:AEDT
DTSTART:20181006T160000
END:DAYLIGHT
END:VTIMEZONE
BEGIN:VEVENT
DTSTART;TZID=Australia/Melbourne:20181205T083000
DTEND;TZID=Australia/Melbourne:20181205T153000
DTSTAMP:20260421T220046
CREATED:20180112T052253Z
LAST-MODIFIED:20180112T052253Z
UID:3202-1543998600-1544023800@www.trafalgargolf.com.au
SUMMARY:Ladies Medal Of Medalists/Grandmothers Trophy - Checker S Balfour	   Starters:   K Ludlow & J Baker
DESCRIPTION:
URL:https://www.trafalgargolf.com.au/event/ladies-medal-of-medalists-grandmothers-trophy-checker-s-balfour-starters-k-ludlow-j-baker/
END:VEVENT
END:VCALENDAR